BEGIN:VCALENDAR
METHOD:PUBLISH
VERSION:2.0
CALSCALE:GREGORIAN
PRODID:-//NONSGML WPForms//NONSGML Sugar Calendar Feeds v3.10.0//EN
X-WR-CALNAME:Camping Adventures-Summer Reading Adventures @ the Saltvill
 e Library
X-WR-CALDESC:Smyth County Public Libraries
X-WR-TIMEZONE:America/New_York
BEGIN:VTIMEZONE
TZID:America/New_York
BEGIN:DAYLIGHT
TZOFFSETFROM:-0500
TZOFFSETTO:-0400
DTSTART:20240310T070000
TZNAME:EDT
END:DAYLIGHT
END:VTIMEZONE
BEGIN:VTIMEZONE
TZID:America/New_York
BEGIN:DAYLIGHT
TZOFFSETFROM:-0500
TZOFFSETTO:-0400
DTSTART:20240310T070000
TZNAME:EDT
END:DAYLIGHT
END:VTIMEZONE
BEGIN:VEVENT
SUMMARY:Camping Adventures-Summer Reading Adventures @ the Saltville Lib
 rary
DESCRIPTION:Tuesday June 18th\n"Camping Adventures" Story Time &amp\; Ac
 tivities\n@ Saltville Library\n11:30 &amp\; 1:30\n(same activities- pick
  best time for your family)\nAge 2-5th grade
URL;VALUE=URI:https://scplva.net/calendar/camping-adventures-summer-read
 ing-adventures-the-saltville-library-4/
UID:urn:uuid:c201cbc1-b365-4144-929f-6e5586521f72
STATUS:CONFIRMED
ORGANIZER:
DTSTAMP:20260421T030336Z
DTSTART;TZID=America/New_York:20240618T113000
DTEND;TZID=America/New_York:20240618T123000
LOCATION:Saltville Branch
END:VEVENT
END:VCALENDAR