BEGIN:VCALENDAR
METHOD:PUBLISH
VERSION:2.0
CALSCALE:GREGORIAN
PRODID:-//NONSGML WPForms//NONSGML Sugar Calendar Feeds v3.10.0//EN
X-WR-CALNAME:Embroidered & Embellished Fabric Patches Workshop with Jenn
 ifer A. Reis in the SCPL Makery at Chilhowie Public Library
X-WR-CALDESC:Smyth County Public Libraries
X-WR-TIMEZONE:America/New_York
BEGIN:VTIMEZONE
TZID:America/New_York
BEGIN:STANDARD
TZOFFSETFROM:-0400
TZOFFSETTO:-0500
DTSTART:20251102T060000
TZNAME:EST
END:STANDARD
BEGIN:DAYLIGHT
TZOFFSETFROM:-0500
TZOFFSETTO:-0400
DTSTART:20260308T070000
TZNAME:EDT
END:DAYLIGHT
END:VTIMEZONE
BEGIN:VTIMEZONE
TZID:America/New_York
BEGIN:STANDARD
TZOFFSETFROM:-0400
TZOFFSETTO:-0500
DTSTART:20251102T060000
TZNAME:EST
END:STANDARD
BEGIN:DAYLIGHT
TZOFFSETFROM:-0500
TZOFFSETTO:-0400
DTSTART:20260308T070000
TZNAME:EDT
END:DAYLIGHT
END:VTIMEZONE
BEGIN:VEVENT
SUMMARY:Embroidered & Embellished Fabric Patches Workshop with Jennifer 
 A. Reis in the SCPL Makery at Chilhowie Public Library
DESCRIPTION:Create a embroidered and embellished patches for your jacket
 s\, jeans\, and bags! We will create small scale fabric patches out of u
 pcycled fabric\, learning binding\, applique\, and embroidery techniques
 . These can be sewn directly onto items or a pinback can be applied on t
 he patch’s back for multiple uses. More than one patch can be created 
 per participants’ interest. All supplies included. Age 16 and up\; abi
 lity to thread a needle is required. Pre-registration is required and sp
 ace is limited. The cost is $10 per person to attend.\n\n\n\nThis projec
 t was supported\, in part\, by the Virginia Commission for the Arts\, wh
 ich receives support from the Virginia General Assembly and the National
  Endowment for the Arts\, a federal agency.\n\n\n\nJennifer A. Reis is a
  textile artist who creates intensively hand-worked\, ornately beaded\, 
 and embellished paper doll icons on cloth using traditional and alternat
 ive materials. She has a production textile line of Indigo Shibori art t
 o wear and homegoods. Her artistic practice has been honored with numero
 us awards and prizes\, including Kentucky’s Al Smith Fellowship\, nati
 onal adjudicated and invitational exhibitions\, and teaching opportuniti
 es at Arrowmont School of Arts and Crafts\, John C. Campbell Folk School
 \, Craft Alliance Center of Art + Design\, Cleveland Institute of Art\, 
 Society of Contemporary Craft\, and the Southwest School of Art. Her tea
 ching style focuses on collaborative creative making in a low competitiv
 e environment and former workshop participants describe her instructiona
 l approach as empathic\, kind\, supportive\, and individualistic. A grad
 uate of Columbus College of Art and Design\, Syracuse University\, and M
 orehead State University\, she has multiple degrees in studio art\, arts
  management\, and art education. Currently she is a professor at UNC-Gre
 ensboro and resides in Martinsville\, Virginia with her husband and an u
 nruly pack of dogs and cats.\nhttps://vca.virginia.gov/directory/jennife
 r-a-reis/\n\n       
URL;VALUE=URI:https://scplva.net/calendar/embroidered-embellished-fabric
 -patches-workshop-with-jennifer-a-reis-in-the-scpl-makery-at-chilhowie-p
 ublic-library/
UID:urn:uuid:81f8b71b-a8d1-4753-bc08-d0b5f592faf0
STATUS:CONFIRMED
ORGANIZER:
DTSTAMP:20260423T022922Z
DTSTART;TZID=America/New_York:20260430T130000
DTEND;TZID=America/New_York:20260430T170000
LOCATION:807 Chilhowie St.
END:VEVENT
END:VCALENDAR