BEGIN:VCALENDAR
METHOD:PUBLISH
VERSION:2.0
CALSCALE:GREGORIAN
PRODID:-//NONSGML WPForms//NONSGML Sugar Calendar Feeds v3.10.0//EN
X-WR-CALNAME:Freezer Paper Folk Appliqué Workshop with Jennifer A. Reis
  in the SCPL Makery at Chilhowie Public Library
X-WR-CALDESC:Smyth County Public Libraries
X-WR-TIMEZONE:America/New_York
BEGIN:VTIMEZONE
TZID:America/New_York
BEGIN:STANDARD
TZOFFSETFROM:-0400
TZOFFSETTO:-0500
DTSTART:20251102T060000
TZNAME:EST
END:STANDARD
BEGIN:DAYLIGHT
TZOFFSETFROM:-0500
TZOFFSETTO:-0400
DTSTART:20260308T070000
TZNAME:EDT
END:DAYLIGHT
END:VTIMEZONE
BEGIN:VTIMEZONE
TZID:America/New_York
BEGIN:STANDARD
TZOFFSETFROM:-0400
TZOFFSETTO:-0500
DTSTART:20251102T060000
TZNAME:EST
END:STANDARD
BEGIN:DAYLIGHT
TZOFFSETFROM:-0500
TZOFFSETTO:-0400
DTSTART:20260308T070000
TZNAME:EDT
END:DAYLIGHT
END:VTIMEZONE
BEGIN:VEVENT
SUMMARY:Freezer Paper Folk Appliqué Workshop with Jennifer A. Reis in t
 he SCPL Makery at Chilhowie Public Library
DESCRIPTION:Learn to use freezer paper to make appliqué designs in this
  hand-stitching workshop! Participants will use provided images or make 
 their own\, transfer drawings to freezer paper\, iron the paper unto fab
 ric\, and utilize the process to make an appliqued and quilted small tex
 tile artwork. All supplies included. Age 16 and up\; ability to thread a
  needle is required. Pre-registration is required and space is limited. 
 The cost is $10 per person to attend. Call 276-646-3404 to register.\n\n
 \n\nThis project was supported\, in part\, by the Virginia Commission fo
 r the Arts\, which receives support from the Virginia General Assembly a
 nd the National Endowment for the Arts\, a federal agency.\n\n\n\nJennif
 er A. Reis is a textile artist who creates intensively hand-worked\, orn
 ately beaded\, and embellished paper doll icons on cloth using tradition
 al and alternative materials. She has a production textile line of Indig
 o Shibori art to wear and homegoods. Her artistic practice has been hono
 red with numerous awards and prizes\, including Kentucky’s Al Smith Fe
 llowship\, national adjudicated and invitational exhibitions\, and teach
 ing opportunities at Arrowmont School of Arts and Crafts\, John C. Campb
 ell Folk School\, Craft Alliance Center of Art + Design\, Cleveland Inst
 itute of Art\, Society of Contemporary Craft\, and the Southwest School 
 of Art. Her teaching style focuses on collaborative creative making in a
  low competitive environment and former workshop participants describe h
 er instructional approach as empathic\, kind\, supportive\, and individu
 alistic. A graduate of Columbus College of Art and Design\, Syracuse Uni
 versity\, and Morehead State University\, she has multiple degrees in st
 udio art\, arts management\, and art education. Currently she is a profe
 ssor at UNC-Greensboro and resides in Martinsville\, Virginia with her h
 usband and an unruly pack of dogs and cats.\nhttps://vca.virginia.gov/di
 rectory/jennifer-a-reis/\n\n        
URL;VALUE=URI:https://scplva.net/calendar/freezer-paper-folk-applique-wo
 rkshop-with-jennifer-a-reis-in-the-scpl-makery/
UID:urn:uuid:8c760706-5955-4b87-8070-73e78a4c27d5
STATUS:CONFIRMED
ORGANIZER:
DTSTAMP:20260423T022700Z
DTSTART;TZID=America/New_York:20260429T130000
DTEND;TZID=America/New_York:20260429T170000
LOCATION:807 Chilhowie St.
END:VEVENT
END:VCALENDAR