BEGIN:VCALENDAR
METHOD:PUBLISH
VERSION:2.0
CALSCALE:GREGORIAN
PRODID:-//NONSGML WPForms//NONSGML Sugar Calendar Feeds v3.10.0//EN
X-WR-CALNAME:Friends of the Saltville Library Book & Movie Sale
X-WR-CALDESC:Smyth County Public Libraries
X-WR-TIMEZONE:America/New_York
BEGIN:VTIMEZONE
TZID:America/New_York
BEGIN:DAYLIGHT
TZOFFSETFROM:-0400
TZOFFSETTO:-0400
DTSTART:20240405T230000
TZNAME:EDT
END:DAYLIGHT
END:VTIMEZONE
BEGIN:VTIMEZONE
TZID:America/New_York
BEGIN:DAYLIGHT
TZOFFSETFROM:-0400
TZOFFSETTO:-0400
DTSTART:20240405T230000
TZNAME:EDT
END:DAYLIGHT
END:VTIMEZONE
BEGIN:VEVENT
SUMMARY:Friends of the Saltville Library Book & Movie Sale
DESCRIPTION:Books: Fill a Bag for $5.00\nDVDS: 7 for $5.00 or $1.00 each
 \nBox Sets: 3 for $10.00 or $5.00 each
URL;VALUE=URI:https://scplva.net/calendar/friends-of-the-saltville-libra
 ry-book-movie-sale-2/
UID:urn:uuid:6f13b011-31c5-424e-8f33-b974c641cf09
STATUS:CONFIRMED
ORGANIZER:
DTSTAMP:20260422T024147Z
DTSTART;TZID=America/New_York:20241005T110000
DTEND;TZID=America/New_York:20241005T143000
LOCATION:Saltville Branch
END:VEVENT
END:VCALENDAR