BEGIN:VCALENDAR
METHOD:PUBLISH
VERSION:2.0
CALSCALE:GREGORIAN
PRODID:-//NONSGML WPForms//NONSGML Sugar Calendar Feeds v3.10.0//EN
X-WR-CALNAME:Teen Hangout
X-WR-CALDESC:Smyth County Public Libraries
X-WR-TIMEZONE:America/New_York
BEGIN:VTIMEZONE
TZID:America/New_York
BEGIN:STANDARD
TZOFFSETFROM:-0400
TZOFFSETTO:-0500
DTSTART:20251102T060000
TZNAME:EST
END:STANDARD
BEGIN:DAYLIGHT
TZOFFSETFROM:-0500
TZOFFSETTO:-0400
DTSTART:20260308T070000
TZNAME:EDT
END:DAYLIGHT
END:VTIMEZONE
BEGIN:VTIMEZONE
TZID:America/New_York
BEGIN:STANDARD
TZOFFSETFROM:-0400
TZOFFSETTO:-0500
DTSTART:20251102T060000
TZNAME:EST
END:STANDARD
BEGIN:DAYLIGHT
TZOFFSETFROM:-0500
TZOFFSETTO:-0400
DTSTART:20260308T070000
TZNAME:EDT
END:DAYLIGHT
END:VTIMEZONE
BEGIN:VEVENT
SUMMARY:Teen Hangout
DESCRIPTION:Join us for teen hangout!
URL;VALUE=URI:https://scplva.net/calendar/fungi-teen-lab-the-saltville-l
 ibrary-2/
UID:urn:uuid:484af0f7-50ac-44df-8496-ee0c6becd427
STATUS:CONFIRMED
ORGANIZER:
DTSTAMP:20260420T194651Z
DTSTART;TZID=America/New_York:20260421T160000
DTEND;TZID=America/New_York:20260428T180000
LOCATION:111 Palmer Ave
END:VEVENT
END:VCALENDAR