BEGIN:VCALENDAR
METHOD:PUBLISH
VERSION:2.0
CALSCALE:GREGORIAN
PRODID:-//NONSGML WPForms//NONSGML Sugar Calendar Feeds v3.10.0//EN
X-WR-CALNAME:Teen Hangout- Crafting Kindness: Diamond Art Edition
X-WR-CALDESC:Smyth County Public Libraries
X-WR-TIMEZONE:America/New_York
BEGIN:VTIMEZONE
TZID:America/New_York
BEGIN:STANDARD
TZOFFSETFROM:-0400
TZOFFSETTO:-0500
DTSTART:20251102T060000
TZNAME:EST
END:STANDARD
BEGIN:DAYLIGHT
TZOFFSETFROM:-0500
TZOFFSETTO:-0400
DTSTART:20260308T070000
TZNAME:EDT
END:DAYLIGHT
END:VTIMEZONE
BEGIN:VTIMEZONE
TZID:America/New_York
BEGIN:STANDARD
TZOFFSETFROM:-0400
TZOFFSETTO:-0500
DTSTART:20251102T060000
TZNAME:EST
END:STANDARD
BEGIN:DAYLIGHT
TZOFFSETFROM:-0500
TZOFFSETTO:-0400
DTSTART:20260308T070000
TZNAME:EDT
END:DAYLIGHT
END:VTIMEZONE
BEGIN:VEVENT
SUMMARY:Teen Hangout- Crafting Kindness: Diamond Art Edition
DESCRIPTION:Good vibes + good cause\nJoin us for diamond painting and he
 lp create heartfelt pieces for hospice patients. It’s chill\, creative
 \, and actually makes an impact.
URL;VALUE=URI:https://scplva.net/calendar/fungi-teen-lab-the-saltville-l
 ibrary/
UID:urn:uuid:d22558f5-df56-4ef3-bb7b-a28f1c04f71e
STATUS:CONFIRMED
ORGANIZER:
DTSTAMP:20260420T170930Z
DTSTART;TZID=America/New_York:20260428T160000
DTEND;TZID=America/New_York:20260428T180000
LOCATION:111 Palmer Ave
END:VEVENT
END:VCALENDAR