BEGIN:VCALENDAR
METHOD:PUBLISH
VERSION:2.0
CALSCALE:GREGORIAN
PRODID:-//NONSGML WPForms//NONSGML Sugar Calendar Feeds v3.10.0//EN
X-WR-CALNAME:MINDFUL JOURNALING
X-WR-CALDESC:Smyth County Public Libraries
X-WR-TIMEZONE:America/New_York
BEGIN:VTIMEZONE
TZID:America/New_York
BEGIN:DAYLIGHT
TZOFFSETFROM:-0500
TZOFFSETTO:-0400
DTSTART:20250309T070000
TZNAME:EDT
END:DAYLIGHT
END:VTIMEZONE
BEGIN:VTIMEZONE
TZID:America/New_York
BEGIN:DAYLIGHT
TZOFFSETFROM:-0500
TZOFFSETTO:-0400
DTSTART:20250309T070000
TZNAME:EDT
END:DAYLIGHT
END:VTIMEZONE
BEGIN:VEVENT
SUMMARY:MINDFUL JOURNALING
DESCRIPTION:FREE CLASS.  In honor of Mental Health Awareness Month\, th
 e Marion Public Library invites you to Mindful Journaling class Tuesdays
  in May from 6 to 8pm.  Mindful Journaling is a combination of long for
 m journaling (think writing in your diary) combined with some artful ill
 ustration (think doodling in the margins).  We are inviting a different
  guest artist and/or writer to join us weekly for inspiration.   All m
 aterials provided –including the journal\, markers\, colored pencils\,
  stencils\, scrap paper\, etc.\n\nCome one week or all four weeks… you
  decide.  There is no pressure to read your entries out loud\, but if y
 ou’d like to share\, we’d love to hear from you.\n\n“Mindful journ
 aling allows the space to show up for your own emotions—contentment\,
 anxiety\, hunger\, exhilaration\, even sheer boredom—and just hang o
 ut with them for a little while. . . . The gift of fearless self-express
 ion also blooms into self-compassion.” – from mindful.org\n\nLimite
 d to 12 participants\nAges 18+\n\nEmail rachelg@scplva.net to pre-regist
 er for a guaranteed spot in class.\n\nDates Scheduled:\n\n 	Tuesday\, Ma
 y 6th\, 6-8pm\n 	Tuesday\, May 13th\, 6-8pm\n 	Tuesday\, May 20th\, 6-8p
 m\n 	Tuesday\, May 27th\, 6-8pm\n\nHave questions?\n\nContact Rachel Gib
 son \nAdult Programming Librarian \n(276) 783-2323 ext. 231 \nrachelg@sc
 plva.net
URL;VALUE=URI:https://scplva.net/calendar/mindful-journaling/
UID:urn:uuid:381038bd-05ca-451d-b62e-9aaed816ea32
STATUS:CONFIRMED
ORGANIZER:
DTSTAMP:20260419T172555Z
DTSTART;TZID=America/New_York:20250506T180000
DTEND;TZID=America/New_York:20250506T200000
RRULE:FREQ=WEEKLY;INTERVAL=1;UNTIL=20250528T235959Z
END:VEVENT
END:VCALENDAR