BEGIN:VCALENDAR
METHOD:PUBLISH
VERSION:2.0
CALSCALE:GREGORIAN
PRODID:-//NONSGML WPForms//NONSGML Sugar Calendar Feeds v3.10.0//EN
X-WR-CALNAME:Saltville Library Learners- Rainbow Science
X-WR-CALDESC:Smyth County Public Libraries
X-WR-TIMEZONE:America/New_York
BEGIN:VTIMEZONE
TZID:America/New_York
BEGIN:STANDARD
TZOFFSETFROM:-0400
TZOFFSETTO:-0500
DTSTART:20251102T060000
TZNAME:EST
END:STANDARD
END:VTIMEZONE
BEGIN:VTIMEZONE
TZID:America/New_York
BEGIN:STANDARD
TZOFFSETFROM:-0400
TZOFFSETTO:-0500
DTSTART:20251102T060000
TZNAME:EST
END:STANDARD
END:VTIMEZONE
BEGIN:VEVENT
SUMMARY:Saltville Library Learners- Rainbow Science
DESCRIPTION:🌈 Meet Roy G. Biv: The Science of Rainbows! 🌈Join us f
 or a colorful homeschool science adventure as we meet Roy G. Biv and exp
 lore the wonders of light and color! Kids will learn how rainbows form\,
  experiment with prisms to create their own mini rainbows\, and get hand
 s-on with a magical rainbow milk experiment that’s as fun as it is fas
 cinating.\n Come ready to learn\, create\, and get a little colorful!\n
 \nPresented by the Hands on Discovery Center
URL;VALUE=URI:https://scplva.net/calendar/saltville-library-learners-rai
 nbow-science/
UID:urn:uuid:ecac3e64-4e6c-4699-ab88-836a54c0e7d8
STATUS:CONFIRMED
ORGANIZER:
DTSTAMP:20260421T084238Z
DTSTART;TZID=America/New_York:20260212T113000
DTEND;TZID=America/New_York:20260212T123000
LOCATION:111 Palmer Ave
END:VEVENT
END:VCALENDAR