BEGIN:VCALENDAR
METHOD:PUBLISH
VERSION:2.0
CALSCALE:GREGORIAN
PRODID:-//NONSGML WPForms//NONSGML Sugar Calendar Feeds v3.10.0//EN
X-WR-CALNAME:Saltville Library Storytime
X-WR-CALDESC:Smyth County Public Libraries
X-WR-TIMEZONE:America/New_York
BEGIN:VTIMEZONE
TZID:America/New_York
BEGIN:DAYLIGHT
TZOFFSETFROM:-0400
TZOFFSETTO:-0400
DTSTART:20240422T233000
TZNAME:EDT
END:DAYLIGHT
END:VTIMEZONE
BEGIN:VTIMEZONE
TZID:America/New_York
BEGIN:DAYLIGHT
TZOFFSETFROM:-0400
TZOFFSETTO:-0400
DTSTART:20240422T233000
TZNAME:EDT
END:DAYLIGHT
END:VTIMEZONE
BEGIN:VEVENT
SUMMARY:Saltville Library Storytime
DESCRIPTION:This storytime is for ages 2 up through homeschool 2nd grade
 rs.\n\nWe will enjoy a story\, a craft\, and then spend some time at our
  hands on stations with our friends.
URL;VALUE=URI:https://scplva.net/calendar/saltville-library-storytime-2/
UID:urn:uuid:b1e83f9e-2080-452d-8f7c-ca83f8834255
STATUS:CONFIRMED
ORGANIZER:
DTSTAMP:20260422T175854Z
DTSTART;TZID=America/New_York:20241022T113000
DTEND;TZID=America/New_York:20241022T123000
LOCATION:Saltville Branch
END:VEVENT
END:VCALENDAR