BEGIN:VCALENDAR
METHOD:PUBLISH
VERSION:2.0
CALSCALE:GREGORIAN
PRODID:-//NONSGML WPForms//NONSGML Sugar Calendar Feeds v3.10.0//EN
X-WR-CALNAME:Saltville Library Storytime-Hey Santa!
X-WR-CALDESC:Smyth County Public Libraries
X-WR-TIMEZONE:America/New_York
BEGIN:VTIMEZONE
TZID:America/New_York
BEGIN:STANDARD
TZOFFSETFROM:-0400
TZOFFSETTO:-0500
DTSTART:20241103T060000
TZNAME:EST
END:STANDARD
END:VTIMEZONE
BEGIN:VTIMEZONE
TZID:America/New_York
BEGIN:STANDARD
TZOFFSETFROM:-0400
TZOFFSETTO:-0500
DTSTART:20241103T060000
TZNAME:EST
END:STANDARD
END:VTIMEZONE
BEGIN:VEVENT
SUMMARY:Saltville Library Storytime-Hey Santa!
DESCRIPTION:This storytime is for age 2 up through grade 2 and is open t
 o homeschool families.\n\nWe will have a story\, a craft\, and spend som
 e time at our hands on stations interacting with our friends.
URL;VALUE=URI:https://scplva.net/calendar/saltville-library-storytime-he
 y-santa-2/
UID:urn:uuid:68b1175e-50e1-4321-98c1-46814e202361
STATUS:CONFIRMED
ORGANIZER:
DTSTAMP:20260425T170513Z
DTSTART;TZID=America/New_York:20241203T113000
DTEND;TZID=America/New_York:20241203T123000
LOCATION:Saltville Branch
END:VEVENT
END:VCALENDAR