BEGIN:VCALENDAR
METHOD:PUBLISH
VERSION:2.0
CALSCALE:GREGORIAN
PRODID:-//NONSGML WPForms//NONSGML Sugar Calendar Feeds v3.10.0//EN
X-WR-CALNAME:Saltville Library Teen Hangout Craft Night
X-WR-CALDESC:Smyth County Public Libraries
X-WR-TIMEZONE:America/New_York
BEGIN:VTIMEZONE
TZID:America/New_York
BEGIN:DAYLIGHT
TZOFFSETFROM:-0400
TZOFFSETTO:-0400
DTSTART:20240416T040000
TZNAME:EDT
END:DAYLIGHT
END:VTIMEZONE
BEGIN:VTIMEZONE
TZID:America/New_York
BEGIN:DAYLIGHT
TZOFFSETFROM:-0400
TZOFFSETTO:-0400
DTSTART:20240416T040000
TZNAME:EDT
END:DAYLIGHT
END:VTIMEZONE
BEGIN:VEVENT
SUMMARY:Saltville Library Teen Hangout Craft Night
DESCRIPTION:Join us for our weekly Teen Hangout! This week we will be ma
 king Halloween crafts! All supplies are provided and we will have snacks
 !
URL;VALUE=URI:https://scplva.net/calendar/saltville-library-teen-hangout
 -craft-night-2/
UID:urn:uuid:cf0ef12b-db04-4cef-812d-73d166d9860a
STATUS:CONFIRMED
ORGANIZER:
DTSTAMP:20260422T071832Z
DTSTART;TZID=America/New_York:20241015T160000
DTEND;TZID=America/New_York:20241015T170000
LOCATION:Saltville Branch
END:VEVENT
END:VCALENDAR