BEGIN:VCALENDAR
METHOD:PUBLISH
VERSION:2.0
CALSCALE:GREGORIAN
PRODID:-//NONSGML WPForms//NONSGML Sugar Calendar Feeds v3.10.0//EN
X-WR-CALNAME:Spore to Table w/ Thurston Family Farm
X-WR-CALDESC:Smyth County Public Libraries
X-WR-TIMEZONE:America/New_York
BEGIN:VTIMEZONE
TZID:America/New_York
BEGIN:STANDARD
TZOFFSETFROM:-0400
TZOFFSETTO:-0500
DTSTART:20251102T060000
TZNAME:EST
END:STANDARD
BEGIN:DAYLIGHT
TZOFFSETFROM:-0500
TZOFFSETTO:-0400
DTSTART:20260308T070000
TZNAME:EDT
END:DAYLIGHT
END:VTIMEZONE
BEGIN:VTIMEZONE
TZID:America/New_York
BEGIN:STANDARD
TZOFFSETFROM:-0400
TZOFFSETTO:-0500
DTSTART:20251102T060000
TZNAME:EST
END:STANDARD
BEGIN:DAYLIGHT
TZOFFSETFROM:-0500
TZOFFSETTO:-0400
DTSTART:20260308T070000
TZNAME:EDT
END:DAYLIGHT
END:VTIMEZONE
BEGIN:VEVENT
SUMMARY:Spore to Table w/ Thurston Family Farm
DESCRIPTION:Join us for Monday Morning Mingle!\nWe’re hosting The Thur
 ston Family Farm to chat all things mushroom growing- from spores to har
 vest\, in conjunction with our Spore to Table program. Come learn\, conn
 ect\, and start your week strong!
URL;VALUE=URI:https://scplva.net/calendar/spore-to-table-w-thurston-fami
 ly-farm/
UID:urn:uuid:901c062a-ab78-4b6a-9bfd-1b7238e5fe2f
STATUS:CONFIRMED
ORGANIZER:
DTSTAMP:20260422T211156Z
DTSTART;TZID=America/New_York:20260427T113000
DTEND;TZID=America/New_York:20260427T123000
LOCATION:111 Palmer Ave
END:VEVENT
END:VCALENDAR