BEGIN:VCALENDAR
METHOD:PUBLISH
VERSION:2.0
CALSCALE:GREGORIAN
PRODID:-//NONSGML WPForms//NONSGML Sugar Calendar Feeds v3.10.0//EN
X-WR-CALNAME:Tuesday Storytime at Chilhowie Library – Alligators & Cro
 codiles
X-WR-CALDESC:Smyth County Public Libraries
X-WR-TIMEZONE:America/New_York
BEGIN:VTIMEZONE
TZID:America/New_York
BEGIN:DAYLIGHT
TZOFFSETFROM:-0500
TZOFFSETTO:-0400
DTSTART:20260308T070000
TZNAME:EDT
END:DAYLIGHT
END:VTIMEZONE
BEGIN:VTIMEZONE
TZID:America/New_York
BEGIN:DAYLIGHT
TZOFFSETFROM:-0500
TZOFFSETTO:-0400
DTSTART:20260308T070000
TZNAME:EDT
END:DAYLIGHT
END:VTIMEZONE
BEGIN:VEVENT
SUMMARY:Tuesday Storytime at Chilhowie Library – Alligators & Crocodil
 es
DESCRIPTION:Join us at 11:00 on Tuesday mornings at Chilhowie Library fo
 r lots of fun at public storytime! Programs are open to pre-school age c
 hildren and homeschool families. Please call 276-646-3404 to register yo
 ur child. These programs are free and open to the public. Everyone is we
 lcome.
URL;VALUE=URI:https://scplva.net/calendar/tuesday-storytime-at-chilhowie
 -library-alligators-crocodiles/
UID:urn:uuid:db2588e0-2d95-4c20-bde1-d36db9d34311
STATUS:CONFIRMED
ORGANIZER:
DTSTAMP:20260423T023321Z
DTSTART;TZID=America/New_York:20260505T110000
DTEND;TZID=America/New_York:20260505T114500
LOCATION:807 Chilhowie St.
END:VEVENT
END:VCALENDAR